Package: EBSEA Version: 1.32.0 Command: /home/biocbuild/bbs-3.19-bioc/R/bin/R CMD build --keep-empty-dirs --no-resave-data EBSEA StartedAt: 2024-10-16 18:18:37 -0400 (Wed, 16 Oct 2024) EndedAt: 2024-10-16 18:19:15 -0400 (Wed, 16 Oct 2024) EllapsedTime: 38.1 seconds RetCode: 0 Status: OK PackageFile: EBSEA_1.32.0.tar.gz PackageFileSize: 47.63 KiB