Package: EBSEA Version: 1.32.0 Command: /Library/Frameworks/R.framework/Resources/bin/R CMD INSTALL EBSEA StartedAt: 2024-10-16 15:31:33 -0400 (Wed, 16 Oct 2024) EndedAt: 2024-10-16 15:32:27 -0400 (Wed, 16 Oct 2024) EllapsedTime: 53.3 seconds RetCode: 0 Status: OK