Package: EBSEA Version: 1.32.0 Command: /Library/Frameworks/R.framework/Resources/bin/R CMD INSTALL EBSEA StartedAt: 2024-06-09 15:40:59 -0400 (Sun, 09 Jun 2024) EndedAt: 2024-06-09 15:41:36 -0400 (Sun, 09 Jun 2024) EllapsedTime: 37.2 seconds RetCode: 0 Status: OK