Package: EBSEA Version: 1.32.0 Command: rm -rf EBSEA.buildbin-libdir && mkdir EBSEA.buildbin-libdir && /Users/biocbuild/BBS/utils/build-universal.sh EBSEA_1.32.0.tar.gz /Library/Frameworks/R.framework/Resources/bin/R EBSEA.buildbin-libdir StartedAt: 2024-06-11 11:03:38 -0400 (Tue, 11 Jun 2024) EndedAt: 2024-06-11 11:04:24 -0400 (Tue, 11 Jun 2024) EllapsedTime: 46.4 seconds RetCode: 0 Status: OK PackageFile: EBSEA_1.32.0.tgz PackageFileSize: 75.87 KiB