Package: EBSEA Version: 1.32.0 Command: /Library/Frameworks/R.framework/Resources/bin/R CMD build --keep-empty-dirs --no-resave-data EBSEA StartedAt: 2024-10-16 23:49:38 -0400 (Wed, 16 Oct 2024) EndedAt: 2024-10-16 23:50:22 -0400 (Wed, 16 Oct 2024) EllapsedTime: 43.3 seconds RetCode: 0 Status: OK PackageFile: EBSEA_1.32.0.tar.gz PackageFileSize: 56.17 KiB