Package: EBImage Version: 4.46.0 Command: chmod a+r EBImage -R && F:\biocbuild\bbs-3.19-bioc\R\bin\R.exe CMD build --keep-empty-dirs --no-resave-data EBImage StartedAt: 2024-06-26 18:32:44 -0400 (Wed, 26 Jun 2024) EndedAt: 2024-06-26 18:33:36 -0400 (Wed, 26 Jun 2024) EllapsedTime: 51.6 seconds RetCode: 0 Status: OK PackageFile: EBImage_4.46.0.tar.gz PackageFileSize: 5.204 MiB