Package: EBImage Version: 4.46.0 Command: rm -rf EBImage.buildbin-libdir && mkdir EBImage.buildbin-libdir && F:\biocbuild\bbs-3.19-bioc\R\bin\R.exe CMD INSTALL --build --library=EBImage.buildbin-libdir EBImage_4.46.0.tar.gz StartedAt: 2024-06-27 08:09:24 -0400 (Thu, 27 Jun 2024) EndedAt: 2024-06-27 08:09:55 -0400 (Thu, 27 Jun 2024) EllapsedTime: 31.3 seconds RetCode: 0 Status: OK PackageFile: EBImage_4.46.0.zip PackageFileSize: 5.618 MiB