Package: EBImage Version: 4.46.0 Command: /home/biocbuild/bbs-3.19-bioc/R/bin/R CMD check --install=check:EBImage.install-out.txt --library=/home/biocbuild/bbs-3.19-bioc/R/site-library --timings EBImage_4.46.0.tar.gz StartedAt: 2024-10-17 00:01:36 -0400 (Thu, 17 Oct 2024) EndedAt: 2024-10-17 00:03:17 -0400 (Thu, 17 Oct 2024) EllapsedTime: 101.2 seconds RetCode: 0 Status: OK CheckDir: EBImage.Rcheck Warnings: 0