Package: DynDoc Version: 1.82.0 Command: E:\biocbuild\bbs-3.19-bioc\R\bin\R.exe CMD INSTALL DynDoc StartedAt: 2024-10-16 15:58:47 -0400 (Wed, 16 Oct 2024) EndedAt: 2024-10-16 15:59:16 -0400 (Wed, 16 Oct 2024) EllapsedTime: 28.7 seconds RetCode: 0 Status: OK