Package: DynDoc Version: 1.82.0 Command: E:\biocbuild\bbs-3.19-bioc\R\bin\R.exe CMD check --no-multiarch --install=check:DynDoc.install-out.txt --library=E:\biocbuild\bbs-3.19-bioc\R\library --no-vignettes --timings DynDoc_1.82.0.tar.gz StartedAt: 2024-10-17 01:05:53 -0400 (Thu, 17 Oct 2024) EndedAt: 2024-10-17 01:06:19 -0400 (Thu, 17 Oct 2024) EllapsedTime: 26.7 seconds RetCode: 0 Status: OK CheckDir: DynDoc.Rcheck Warnings: 0