Package: DynDoc Version: 1.82.0 Command: F:\biocbuild\bbs-3.19-bioc\R\bin\R.exe CMD check --no-multiarch --install=check:DynDoc.install-out.txt --library=F:\biocbuild\bbs-3.19-bioc\R\library --no-vignettes --timings DynDoc_1.82.0.tar.gz StartedAt: 2024-06-27 01:15:17 -0400 (Thu, 27 Jun 2024) EndedAt: 2024-06-27 01:15:44 -0400 (Thu, 27 Jun 2024) EllapsedTime: 27.0 seconds RetCode: 0 Status: OK CheckDir: DynDoc.Rcheck Warnings: 0