Package: DynDoc Version: 1.82.0 Command: rm -rf DynDoc.buildbin-libdir && mkdir DynDoc.buildbin-libdir && F:\biocbuild\bbs-3.19-bioc\R\bin\R.exe CMD INSTALL --build --library=DynDoc.buildbin-libdir DynDoc_1.82.0.tar.gz StartedAt: 2024-06-27 08:09:10 -0400 (Thu, 27 Jun 2024) EndedAt: 2024-06-27 08:09:26 -0400 (Thu, 27 Jun 2024) EllapsedTime: 16.0 seconds RetCode: 0 Status: OK PackageFile: DynDoc_1.82.0.zip PackageFileSize: 217.7 KiB