Package: DynDoc Version: 1.82.0 Command: /Library/Frameworks/R.framework/Resources/bin/R CMD check --install=check:DynDoc.install-out.txt --library=/Library/Frameworks/R.framework/Resources/library --no-vignettes --timings DynDoc_1.82.0.tar.gz StartedAt: 2024-10-17 04:39:45 -0400 (Thu, 17 Oct 2024) EndedAt: 2024-10-17 04:40:37 -0400 (Thu, 17 Oct 2024) EllapsedTime: 52.4 seconds RetCode: 0 Status: OK CheckDir: DynDoc.Rcheck Warnings: 0