Package: DynDoc Version: 1.82.0 Command: /Library/Frameworks/R.framework/Resources/bin/R CMD INSTALL DynDoc StartedAt: 2024-10-16 15:34:33 -0400 (Wed, 16 Oct 2024) EndedAt: 2024-10-16 15:34:36 -0400 (Wed, 16 Oct 2024) EllapsedTime: 3.4 seconds RetCode: 0 Status: OK