Package: DynDoc Version: 1.82.0 Command: /Library/Frameworks/R.framework/Resources/bin/R CMD check --install=check:DynDoc.install-out.txt --library=/Library/Frameworks/R.framework/Resources/library --no-vignettes --timings DynDoc_1.82.0.tar.gz StartedAt: 2024-10-17 20:22:20 -0400 (Thu, 17 Oct 2024) EndedAt: 2024-10-17 20:22:47 -0400 (Thu, 17 Oct 2024) EllapsedTime: 27.1 seconds RetCode: 0 Status: OK CheckDir: DynDoc.Rcheck Warnings: 0