Package: DynDoc Version: 1.82.0 Command: /Library/Frameworks/R.framework/Resources/bin/R CMD build --keep-empty-dirs --no-resave-data DynDoc StartedAt: 2024-10-16 23:44:24 -0400 (Wed, 16 Oct 2024) EndedAt: 2024-10-16 23:44:26 -0400 (Wed, 16 Oct 2024) EllapsedTime: 1.2 seconds RetCode: 0 Status: OK PackageFile: DynDoc_1.82.0.tar.gz PackageFileSize: 10.97 KiB