Package: Dune Version: 1.16.0 Command: /Library/Frameworks/R.framework/Resources/bin/R CMD INSTALL Dune StartedAt: 2024-10-16 15:46:05 -0400 (Wed, 16 Oct 2024) EndedAt: 2024-10-16 15:47:01 -0400 (Wed, 16 Oct 2024) EllapsedTime: 55.9 seconds RetCode: 0 Status: OK