Package: DrugVsDisease Version: 2.46.0 Command: /home/biocbuild/R/R-beta-2024-04-15_r86425/bin/R CMD build --keep-empty-dirs --no-resave-data DrugVsDisease StartedAt: 2024-05-09 00:01:27 -0000 (Thu, 09 May 2024) EndedAt: 2024-05-09 00:02:16 -0000 (Thu, 09 May 2024) EllapsedTime: 49.1 seconds RetCode: 0 Status: OK PackageFile: DrugVsDisease_2.46.0.tar.gz PackageFileSize: 1.824 MiB