Package: DrugVsDisease Version: 2.46.0 Command: /Library/Frameworks/R.framework/Resources/bin/R CMD check --install=check:DrugVsDisease.install-out.txt --library=/Library/Frameworks/R.framework/Resources/library --no-vignettes --timings DrugVsDisease_2.46.0.tar.gz StartedAt: 2024-10-17 20:15:30 -0400 (Thu, 17 Oct 2024) EndedAt: 2024-10-17 20:18:54 -0400 (Thu, 17 Oct 2024) EllapsedTime: 203.4 seconds RetCode: 1 Status: ERROR CheckDir: DrugVsDisease.Rcheck Warnings: NA