Package: DrugVsDisease Version: 2.46.0 Command: /Library/Frameworks/R.framework/Resources/bin/R CMD build --keep-empty-dirs --no-resave-data DrugVsDisease StartedAt: 2024-10-16 23:40:02 -0400 (Wed, 16 Oct 2024) EndedAt: 2024-10-16 23:40:52 -0400 (Wed, 16 Oct 2024) EllapsedTime: 50.4 seconds RetCode: 0 Status: OK PackageFile: DrugVsDisease_2.46.0.tar.gz PackageFileSize: 1.829 MiB