Package: DropletUtils Version: 1.24.0 Command: E:\biocbuild\bbs-3.19-bioc\R\bin\R.exe CMD INSTALL DropletUtils StartedAt: 2024-10-16 16:34:03 -0400 (Wed, 16 Oct 2024) EndedAt: 2024-10-16 16:35:55 -0400 (Wed, 16 Oct 2024) EllapsedTime: 112.0 seconds RetCode: 0 Status: OK