Package: DropletUtils Version: 1.24.0 Command: chmod a+r DropletUtils -R && E:\biocbuild\bbs-3.19-bioc\R\bin\R.exe CMD build --keep-empty-dirs --no-resave-data DropletUtils StartedAt: 2024-10-16 18:47:36 -0400 (Wed, 16 Oct 2024) EndedAt: 2024-10-16 18:49:26 -0400 (Wed, 16 Oct 2024) EllapsedTime: 109.6 seconds RetCode: 0 Status: OK PackageFile: DropletUtils_1.24.0.tar.gz PackageFileSize: 390.6 KiB