Package: DropletUtils Version: 1.24.0 Command: rm -rf DropletUtils.buildbin-libdir && mkdir DropletUtils.buildbin-libdir && F:\biocbuild\bbs-3.19-bioc\R\bin\R.exe CMD INSTALL --build --library=DropletUtils.buildbin-libdir DropletUtils_1.24.0.tar.gz StartedAt: 2024-06-27 08:08:54 -0400 (Thu, 27 Jun 2024) EndedAt: 2024-06-27 08:10:51 -0400 (Thu, 27 Jun 2024) EllapsedTime: 117.3 seconds RetCode: 0 Status: OK PackageFile: DropletUtils_1.24.0.zip PackageFileSize: 2.106 MiB