Package: DropletUtils Version: 1.24.0 Command: /Library/Frameworks/R.framework/Resources/bin/R CMD INSTALL DropletUtils StartedAt: 2024-10-16 16:50:17 -0400 (Wed, 16 Oct 2024) EndedAt: 2024-10-16 16:51:25 -0400 (Wed, 16 Oct 2024) EllapsedTime: 68.0 seconds RetCode: 0 Status: OK