Package: DriverNet Version: 1.44.0 Command: rm -rf DriverNet.buildbin-libdir && mkdir DriverNet.buildbin-libdir && F:\biocbuild\bbs-3.19-bioc\R\bin\R.exe CMD INSTALL --build --library=DriverNet.buildbin-libdir DriverNet_1.44.0.tar.gz StartedAt: 2024-06-27 08:08:48 -0400 (Thu, 27 Jun 2024) EndedAt: 2024-06-27 08:08:54 -0400 (Thu, 27 Jun 2024) EllapsedTime: 5.9 seconds RetCode: 0 Status: OK PackageFile: DriverNet_1.44.0.zip PackageFileSize: 1.177 MiB