Package: DriverNet Version: 1.44.0 Command: rm -rf DriverNet.buildbin-libdir && mkdir DriverNet.buildbin-libdir && /Users/biocbuild/BBS/utils/build-universal.sh DriverNet_1.44.0.tar.gz /Library/Frameworks/R.framework/Resources/bin/R DriverNet.buildbin-libdir StartedAt: 2024-06-10 00:16:08 -0400 (Mon, 10 Jun 2024) EndedAt: 2024-06-10 00:16:12 -0400 (Mon, 10 Jun 2024) EllapsedTime: 4.4 seconds RetCode: 0 Status: OK PackageFile: DriverNet_1.44.0.tgz PackageFileSize: 1.171 MiB