Package: DriverNet Version: 1.44.0 Maintainer: Jiarui Ding MaintainerEmail: jiaruid at cs.ubc.ca git_url: https://git.bioconductor.org/packages/DriverNet git_branch: RELEASE_3_19 git_last_commit: 89ed3c9 git_last_commit_date: 2024-04-30 10:29:47 -0400 (Tue, 30 Apr 2024)