Package: Doscheda Version: 1.26.0 Command: E:\biocbuild\bbs-3.19-bioc\R\bin\R.exe CMD INSTALL Doscheda StartedAt: 2024-10-16 17:08:22 -0400 (Wed, 16 Oct 2024) EndedAt: 2024-10-16 17:09:07 -0400 (Wed, 16 Oct 2024) EllapsedTime: 44.6 seconds RetCode: 0 Status: OK