Package: Doscheda Version: 1.26.0 Command: chmod a+r Doscheda -R && E:\biocbuild\bbs-3.19-bioc\R\bin\R.exe CMD build --keep-empty-dirs --no-resave-data Doscheda StartedAt: 2024-10-16 18:46:22 -0400 (Wed, 16 Oct 2024) EndedAt: 2024-10-16 18:47:18 -0400 (Wed, 16 Oct 2024) EllapsedTime: 55.6 seconds RetCode: 0 Status: OK PackageFile: Doscheda_1.26.0.tar.gz PackageFileSize: 3.215 MiB