Package: Doscheda Version: 1.26.0 Command: chmod a+r Doscheda -R && F:\biocbuild\bbs-3.19-bioc\R\bin\R.exe CMD build --keep-empty-dirs --no-resave-data Doscheda StartedAt: 2024-06-26 18:29:53 -0400 (Wed, 26 Jun 2024) EndedAt: 2024-06-26 18:30:49 -0400 (Wed, 26 Jun 2024) EllapsedTime: 56.3 seconds RetCode: 0 Status: OK PackageFile: Doscheda_1.26.0.tar.gz PackageFileSize: 3.215 MiB