Package: Doscheda Version: 1.26.0 Command: rm -rf Doscheda.buildbin-libdir && mkdir Doscheda.buildbin-libdir && F:\biocbuild\bbs-3.19-bioc\R\bin\R.exe CMD INSTALL --build --library=Doscheda.buildbin-libdir Doscheda_1.26.0.tar.gz StartedAt: 2024-06-27 08:08:33 -0400 (Thu, 27 Jun 2024) EndedAt: 2024-06-27 08:08:58 -0400 (Thu, 27 Jun 2024) EllapsedTime: 25.5 seconds RetCode: 0 Status: OK PackageFile: Doscheda_1.26.0.zip PackageFileSize: 3.895 MiB