Package: Doscheda Version: 1.26.0 Command: /home/biocbuild/bbs-3.19-bioc/R/bin/R CMD check --install=check:Doscheda.install-out.txt --library=/home/biocbuild/bbs-3.19-bioc/R/site-library --timings Doscheda_1.26.0.tar.gz StartedAt: 2024-10-16 23:56:07 -0400 (Wed, 16 Oct 2024) EndedAt: 2024-10-16 23:59:13 -0400 (Wed, 16 Oct 2024) EllapsedTime: 186.3 seconds RetCode: 0 Status: OK CheckDir: Doscheda.Rcheck Warnings: 0