Package: Doscheda Version: 1.26.0 Command: rm -rf Doscheda.buildbin-libdir && mkdir Doscheda.buildbin-libdir && /Users/biocbuild/BBS/utils/build-universal.sh Doscheda_1.26.0.tar.gz /Library/Frameworks/R.framework/Resources/bin/R Doscheda.buildbin-libdir StartedAt: 2024-06-10 00:16:02 -0400 (Mon, 10 Jun 2024) EndedAt: 2024-06-10 00:16:23 -0400 (Mon, 10 Jun 2024) EllapsedTime: 21.3 seconds RetCode: 0 Status: OK PackageFile: Doscheda_1.26.0.tgz PackageFileSize: 4.593 MiB