Package: Doscheda Version: 1.26.0 Command: /home/biocbuild/R/R-beta-2024-04-15_r86425/bin/R CMD build --keep-empty-dirs --no-resave-data Doscheda StartedAt: 2024-05-08 23:59:38 -0000 (Wed, 08 May 2024) EndedAt: 2024-05-09 00:00:32 -0000 (Thu, 09 May 2024) EllapsedTime: 54.1 seconds RetCode: 0 Status: OK PackageFile: Doscheda_1.26.0.tar.gz PackageFileSize: 3.281 MiB