Package: Doscheda Version: 1.26.0 Command: /Library/Frameworks/R.framework/Resources/bin/R CMD check --install=check:Doscheda.install-out.txt --library=/Library/Frameworks/R.framework/Resources/library --no-vignettes --timings Doscheda_1.26.0.tar.gz StartedAt: 2024-10-17 20:05:54 -0400 (Thu, 17 Oct 2024) EndedAt: 2024-10-17 20:09:03 -0400 (Thu, 17 Oct 2024) EllapsedTime: 189.4 seconds RetCode: 0 Status: OK CheckDir: Doscheda.Rcheck Warnings: 0