Package: Doscheda Version: 1.26.0 Command: rm -rf Doscheda.buildbin-libdir && mkdir Doscheda.buildbin-libdir && /Users/biocbuild/BBS/utils/build-universal.sh Doscheda_1.26.0.tar.gz /Library/Frameworks/R.framework/Resources/bin/R Doscheda.buildbin-libdir StartedAt: 2024-10-18 18:15:43 -0400 (Fri, 18 Oct 2024) EndedAt: 2024-10-18 18:16:04 -0400 (Fri, 18 Oct 2024) EllapsedTime: 21.5 seconds RetCode: 0 Status: OK PackageFile: Doscheda_1.26.0.tgz PackageFileSize: 4.594 MiB