Package: DominoEffect Version: 1.24.0 Command: E:\biocbuild\bbs-3.19-bioc\R\bin\R.exe CMD check --no-multiarch --install=check:DominoEffect.install-out.txt --library=E:\biocbuild\bbs-3.19-bioc\R\library --no-vignettes --timings DominoEffect_1.24.0.tar.gz StartedAt: 2024-10-17 00:59:59 -0400 (Thu, 17 Oct 2024) EndedAt: 2024-10-17 01:06:39 -0400 (Thu, 17 Oct 2024) EllapsedTime: 399.7 seconds RetCode: 0 Status: OK CheckDir: DominoEffect.Rcheck Warnings: 0