Package: DominoEffect Version: 1.24.0 Command: chmod a+r DominoEffect -R && E:\biocbuild\bbs-3.19-bioc\R\bin\R.exe CMD build --keep-empty-dirs --no-resave-data DominoEffect StartedAt: 2024-10-16 18:46:18 -0400 (Wed, 16 Oct 2024) EndedAt: 2024-10-16 18:47:38 -0400 (Wed, 16 Oct 2024) EllapsedTime: 80.0 seconds RetCode: 0 Status: OK PackageFile: DominoEffect_1.24.0.tar.gz PackageFileSize: 473.4 KiB