Package: DominoEffect Version: 1.24.0 Command: chmod a+r DominoEffect -R && F:\biocbuild\bbs-3.19-bioc\R\bin\R.exe CMD build --keep-empty-dirs --no-resave-data DominoEffect StartedAt: 2024-06-26 18:29:30 -0400 (Wed, 26 Jun 2024) EndedAt: 2024-06-26 18:30:48 -0400 (Wed, 26 Jun 2024) EllapsedTime: 77.8 seconds RetCode: 0 Status: OK PackageFile: DominoEffect_1.24.0.tar.gz PackageFileSize: 473.4 KiB