Package: DominoEffect Version: 1.24.0 Command: rm -rf DominoEffect.buildbin-libdir && mkdir DominoEffect.buildbin-libdir && /Users/biocbuild/BBS/utils/build-universal.sh DominoEffect_1.24.0.tar.gz /Library/Frameworks/R.framework/Resources/bin/R DominoEffect.buildbin-libdir StartedAt: 2024-10-17 16:03:28 -0400 (Thu, 17 Oct 2024) EndedAt: 2024-10-17 16:05:09 -0400 (Thu, 17 Oct 2024) EllapsedTime: 101.3 seconds RetCode: 0 Status: OK PackageFile: DominoEffect_1.24.0.tgz PackageFileSize: 581.8 KiB