Package: DiscoRhythm Version: 1.20.0 Command: E:\biocbuild\bbs-3.19-bioc\R\bin\R.exe CMD INSTALL DiscoRhythm StartedAt: 2024-10-16 17:23:47 -0400 (Wed, 16 Oct 2024) EndedAt: 2024-10-16 17:24:22 -0400 (Wed, 16 Oct 2024) EllapsedTime: 35.0 seconds RetCode: 0 Status: OK