Package: DiscoRhythm Version: 1.20.0 Command: rm -rf DiscoRhythm.buildbin-libdir && mkdir DiscoRhythm.buildbin-libdir && E:\biocbuild\bbs-3.19-bioc\R\bin\R.exe CMD INSTALL --build --library=DiscoRhythm.buildbin-libdir DiscoRhythm_1.20.0.tar.gz StartedAt: 2024-10-17 07:42:12 -0400 (Thu, 17 Oct 2024) EndedAt: 2024-10-17 07:43:03 -0400 (Thu, 17 Oct 2024) EllapsedTime: 50.8 seconds RetCode: 0 Status: OK PackageFile: DiscoRhythm_1.20.0.zip PackageFileSize: 1.92 MiB