Package: DiscoRhythm Version: 1.20.0 Command: /home/biocbuild/R/R-beta-2024-04-15_r86425/bin/R CMD check --install=check:DiscoRhythm.install-out.txt --library=/home/biocbuild/R/R-beta-2024-04-15_r86425/site-library --no-vignettes --timings DiscoRhythm_1.20.0.tar.gz StartedAt: 2024-05-09 06:51:53 -0000 (Thu, 09 May 2024) EndedAt: 2024-05-09 06:56:06 -0000 (Thu, 09 May 2024) EllapsedTime: 253.4 seconds RetCode: 0 Status: OK CheckDir: DiscoRhythm.Rcheck Warnings: 0