Package: DiscoRhythm Version: 1.20.0 Command: /home/biocbuild/R/R-beta-2024-04-15_r86425/bin/R CMD build --keep-empty-dirs --no-resave-data DiscoRhythm StartedAt: 2024-05-08 23:56:46 -0000 (Wed, 08 May 2024) EndedAt: 2024-05-08 23:57:38 -0000 (Wed, 08 May 2024) EllapsedTime: 52.1 seconds RetCode: 0 Status: OK PackageFile: DiscoRhythm_1.20.0.tar.gz PackageFileSize: 2.614 MiB