Package: DiscoRhythm Version: 1.20.0 Command: /Library/Frameworks/R.framework/Resources/bin/R CMD check --install=check:DiscoRhythm.install-out.txt --library=/Library/Frameworks/R.framework/Resources/library --no-vignettes --timings DiscoRhythm_1.20.0.tar.gz StartedAt: 2024-06-10 13:57:52 -0400 (Mon, 10 Jun 2024) EndedAt: 2024-06-10 14:04:31 -0400 (Mon, 10 Jun 2024) EllapsedTime: 399.4 seconds RetCode: 0 Status: OK CheckDir: DiscoRhythm.Rcheck Warnings: 0