Package: DiscoRhythm Version: 1.20.0 Command: /Library/Frameworks/R.framework/Resources/bin/R CMD build --keep-empty-dirs --no-resave-data DiscoRhythm StartedAt: 2024-06-09 20:46:25 -0400 (Sun, 09 Jun 2024) EndedAt: 2024-06-09 20:47:51 -0400 (Sun, 09 Jun 2024) EllapsedTime: 86.3 seconds RetCode: 0 Status: OK PackageFile: DiscoRhythm_1.20.0.tar.gz PackageFileSize: 2.522 MiB