Package: DiscoRhythm Version: 1.20.0 Command: /Library/Frameworks/R.framework/Resources/bin/R CMD build --keep-empty-dirs --no-resave-data DiscoRhythm StartedAt: 2024-10-16 23:26:17 -0400 (Wed, 16 Oct 2024) EndedAt: 2024-10-16 23:27:07 -0400 (Wed, 16 Oct 2024) EllapsedTime: 49.2 seconds RetCode: 0 Status: OK PackageFile: DiscoRhythm_1.20.0.tar.gz PackageFileSize: 2.522 MiB