Package: DiscoRhythm Version: 1.20.0 Maintainer: Matthew Carlucci MaintainerEmail: Matthew.Carlucci at camh.ca git_url: https://git.bioconductor.org/packages/DiscoRhythm git_branch: RELEASE_3_19 git_last_commit: fbf2589 git_last_commit_date: 2024-04-30 11:13:52 -0400 (Tue, 30 Apr 2024)