Package: DirichletMultinomial Version: 1.46.0 Command: /Library/Frameworks/R.framework/Resources/bin/R CMD INSTALL DirichletMultinomial StartedAt: 2024-06-09 15:08:20 -0400 (Sun, 09 Jun 2024) EndedAt: 2024-06-09 15:08:31 -0400 (Sun, 09 Jun 2024) EllapsedTime: 11.0 seconds RetCode: 0 Status: OK