Package: DirichletMultinomial Version: 1.46.0 Command: rm -rf DirichletMultinomial.buildbin-libdir && mkdir DirichletMultinomial.buildbin-libdir && /Users/biocbuild/BBS/utils/build-universal.sh DirichletMultinomial_1.46.0.tar.gz /Library/Frameworks/R.framework/Resources/bin/R DirichletMultinomial.buildbin-libdir StartedAt: 2024-06-11 10:58:54 -0400 (Tue, 11 Jun 2024) EndedAt: 2024-06-11 10:59:15 -0400 (Tue, 11 Jun 2024) EllapsedTime: 20.8 seconds RetCode: 0 Status: OK PackageFile: DirichletMultinomial_1.46.0.tgz PackageFileSize: 823.2 KiB